BEGIN:VCALENDAR
VERSION:2.0
PRODID:-//Balboa Park Cultural Partnership - ECPv5.9.0//NONSGML v1.0//EN
CALSCALE:GREGORIAN
METHOD:PUBLISH
X-WR-CALNAME:Balboa Park Cultural Partnership
X-ORIGINAL-URL:https://bpcp.org
X-WR-CALDESC:Events for Balboa Park Cultural Partnership
BEGIN:VTIMEZONE
TZID:UTC
BEGIN:STANDARD
TZOFFSETFROM:+0000
TZOFFSETTO:+0000
TZNAME:UTC
DTSTART:20170101T000000
END:STANDARD
END:VTIMEZONE
BEGIN:VEVENT
DTSTART;TZID=UTC:20170322T080000
DTEND;TZID=UTC:20170322T220000
DTSTAMP:20260423T140920
CREATED:20170308T175806Z
LAST-MODIFIED:20170308T175806Z
UID:3342-1490169600-1490220000@bpcp.org
SUMMARY:OPOT Morning Get-Together
DESCRIPTION:  \nWednesday\, March 22\n8:00am-10:00am\nSpanish Village \nCome out to the Spanish Village Art Center on Wednesday\, March 22 from 8:00am to 10:00am for March’s OPOT Morning Get-Together. Enjoy one complimentary cup of coffee or a frappuccino and pastries courtesy of Daniel’s Coffee. Let us know you’re coming by RSVP’ing here!
URL:https://bpcp.org/events/opot-morning-get-together/
LOCATION:Spanish Village Art Center\, 1770 Village Place\, San Diego\, CA\, 92101\, United States
CATEGORIES:Balboa Park Cultural Partnership,One Park - One Team
ATTACH;FMTTYPE=image/png:https://bpcp.org/wp-content/uploads/2017/03/OPOT-Get-Together-Banners-2.png
ORGANIZER;CN="One%20Park%20-%20One%20Team":MAILTO:oneparkoneteam@bpcp.org
END:VEVENT
END:VCALENDAR