BEGIN:VCALENDAR
VERSION:2.0
PRODID:-//Balboa Park Cultural Partnership - ECPv5.9.0//NONSGML v1.0//EN
CALSCALE:GREGORIAN
METHOD:PUBLISH
X-WR-CALNAME:Balboa Park Cultural Partnership
X-ORIGINAL-URL:https://bpcp.org
X-WR-CALDESC:Events for Balboa Park Cultural Partnership
BEGIN:VTIMEZONE
TZID:UTC
BEGIN:STANDARD
TZOFFSETFROM:+0000
TZOFFSETTO:+0000
TZNAME:UTC
DTSTART:20180101T000000
END:STANDARD
END:VTIMEZONE
BEGIN:VEVENT
DTSTART;TZID=UTC:20180125T110000
DTEND;TZID=UTC:20180125T120000
DTSTAMP:20260423T082958
CREATED:20171227T190337Z
LAST-MODIFIED:20180126T151706Z
UID:5370-1516878000-1516881600@bpcp.org
SUMMARY:January Green Team Meeting
DESCRIPTION:Closed to the general public. \nThe Balboa Park Green Team is a group comprised of employees and volunteers from all the arts and culture organizations in Balboa Park. It was assembled to enhance employee and volunteer engagement in Park sustainability initiatives.  We aim to have representation from each of the BPCP member organizations at each meeting. With the goal of infusing sustainability practices into operations\, the Sustainability Program works bimonthly with the Balboa Park Green Team to further the Park’s expertise in energy conservation and green business principles. Learn more here.
URL:https://bpcp.org/events/january-green-team-meeting/
CATEGORIES:Sustainability Program
END:VEVENT
END:VCALENDAR