BEGIN:VCALENDAR
VERSION:2.0
PRODID:-//Balboa Park Cultural Partnership - ECPv5.9.0//NONSGML v1.0//EN
CALSCALE:GREGORIAN
METHOD:PUBLISH
X-WR-CALNAME:Balboa Park Cultural Partnership
X-ORIGINAL-URL:https://bpcp.org
X-WR-CALDESC:Events for Balboa Park Cultural Partnership
BEGIN:VTIMEZONE
TZID:UTC
BEGIN:STANDARD
TZOFFSETFROM:+0000
TZOFFSETTO:+0000
TZNAME:UTC
DTSTART:20160101T000000
END:STANDARD
END:VTIMEZONE
BEGIN:VEVENT
DTSTART;TZID=UTC:20161103T090000
DTEND;TZID=UTC:20161103T120000
DTSTAMP:20260423T155105
CREATED:20161006T201242Z
LAST-MODIFIED:20161006T201454Z
UID:2442-1478163600-1478174400@bpcp.org
SUMMARY:Project Development and the Agile Organization
DESCRIPTION:Do you want to spend less time in meetings? Would you like to spend more time working with clear objectives and the freedom to make decisions? Do you want your teams to work more effectively without oversight? In this hands-on workshop Brad MacDonald will take participants through five stages of project development: Preparation\, Definition\, Prioritization\, Development and Evaluation. We’ll discuss\, and practice\, strategies for defining project goals and negotiating the creative space to make decisions. \nParticipants are encouraged to arrive with a project in mind so they can apply the principles in a real world scenario that is relevant to them. Projects can be of any scope\, team size or discipline and there will be an emphasis on creative problem solving that includes exercises to challenge and expand the way they view their work. \nAdditionally\, we’ll practice frameworks for creative discussions that remove ego from the equation\, distinguish between qualitative and quantitative feedback\, and focus on recognizing the value of any given concept. \nREGISTER HERE: theagileorg.eventbrite.org\nIn this workshop\, you will learn about and how implement: \n\n\nA structure for project planning that can be applied to any discipline and team size. \n\n\nA creative brief that helps define shape\, scope and emotive value of any project. \n\n\nA structure for brainstorms that generates ideas quickly so teams can spend more time making things and less time talking about them. \n\n\nA framework for removing ego from creative discussions. \n\n\nA feature tracking tool to define and prioritize the development of any project. \n\n\nA project management tool to assist in the prioritization of multiple projects \n\n\nWho should attend?\nThis is a cross disciplinary workshop. Past participants have included writers\, dancers\, game developers\, bakers\, musicians\, theater directors\, creative directors and illustrators. \nPrice Structure \n\nBalboa Park Cultural Partnership Member Institution Team Members – $45\nAll other nonprofits and arts & culture organizations – $60\n\nREGISTER HERE: theagileorg.eventbrite.org\nAbout the Speaker\n \n Brad MacDonald is a visual designer\, artist\, author and musician who is interested in identifying and developing design practices that apply across media\, platforms and domains. \nHe’s an Adjunct Professor in the MFA Design and Technology program at Parsons School of Design in New York City and in the 14 years he was with Large Animal Games he was the Lead Artist or Art Director for over 100 mobile\, online\, social and PC downloadable games. Four of which\, AlphaQUEUE\, Rocketbowl\, Saints & Sinners Bowling\, and Snapshot Adventures have been IGF Finalists. He has advised with the San Diego Museum of Man on recent initiatives. \nSince 1989 he’s been fortunate to work with a range of clients\, from the smallest indie shops to some of the world’s biggest brands. He’s worked as a professional political cartoonist\, comic book illustrator\, animator\, product designer\, web developer\, game designer\, video blogger and author. Past clients have included MTV Networks\, Sci-Fi Channel\, Tommy Hilfiger\, NFL\, Nascar\, The Gap\, Sony Records\, RCA Records\, Epitaph Records\, CNBC\, The Ethiopian Commentator\, MaMaMedia\, The LA Galaxy\, the nu-metal band Disturbed\, and Nickelodeon.
URL:https://bpcp.org/events/agile-organization/
LOCATION:San Diego Museum of Man\, Administration Building\, Gill Auditorium\, 1350 El Prado\, San Diego\, CA\, 92101\, United States
CATEGORIES:Balboa Park Cultural Partnership,Learning Institute
ATTACH;FMTTYPE=image/jpeg:https://bpcp.org/wp-content/uploads/2016/10/Banner-Tools-Not-Rules.jpg
ORGANIZER;CN="The%20Learning%20Institute":MAILTO:learning@bpcp.org
END:VEVENT
END:VCALENDAR