BEGIN:VCALENDAR
VERSION:2.0
PRODID:-//Balboa Park Cultural Partnership - ECPv5.9.0//NONSGML v1.0//EN
CALSCALE:GREGORIAN
METHOD:PUBLISH
X-WR-CALNAME:Balboa Park Cultural Partnership
X-ORIGINAL-URL:https://bpcp.org
X-WR-CALDESC:Events for Balboa Park Cultural Partnership
BEGIN:VTIMEZONE
TZID:UTC
BEGIN:STANDARD
TZOFFSETFROM:+0000
TZOFFSETTO:+0000
TZNAME:UTC
DTSTART:20170101T000000
END:STANDARD
END:VTIMEZONE
BEGIN:VEVENT
DTSTART;TZID=UTC:20170524T110000
DTEND;TZID=UTC:20170524T140000
DTSTAMP:20260423T105427
CREATED:20170415T010950Z
LAST-MODIFIED:20170415T010950Z
UID:3698-1495623600-1495634400@bpcp.org
SUMMARY:4th Annual One Park – One Team Summer Kickoff
DESCRIPTION:WEDNESDAY\, MAY 24\n11AM – 2PM\nTHE OLD GLOBE COPLEY PLAZA\n\n\n\n\n\n\n\n\nIt’s that time of year! You are invited to the 4th Annual One Park – One Team Summer Kickoff. Enjoy a special lunch get-together along with fun games\, music\, and the popular OPOT Awards! \nLunch provided by Mastiff Sausage and Catering \nYour choice of: \nClassic Mastiff Bratwurst sandwich OR Chicken Coconut Curry sausage sandwich\n*Vegan option available: Smoked Apple and Sage Sausage \nOptional toppings:\nSauteed Peppers and Onions\nHouse Made Whole Grain Mustard and Condiments available \nSides\nVinegar Slaw\nScratch Potato Salad \nDessert Display with House-Made Cookies\, Brownies and Fresh Seasonal Sliced Fruit \n*Menu subject to change without notice* \nProgram\n11am – Registration opens & Lunch is Served\n12:30pm – OPOT Awards Announced\n2pm – Event Ends\n*Interactive activities happening every half hour! First one begins at 11:30am. \n\nMUST BE A CURRENT PAID EMPLOYEE OR VOLUNTEER OF A BPCP MEMBER ORGANIZATION.\nNO OUTSIDE GUESTS.\nClick here to view BPCP Member Organizations before registering. \nREGISTRATION IS REQUIRED TO ATTEND. CLICK HERE TO REGISTER.\n  \n\n\nNominate a passionate and enthusiastic individual who contributes to Balboa Park when you register for the Summer Kickoff! As you make a reservation for the One Park – One Team Summer Kickoff\, take some time to reflect on team members around Balboa Park who go above and beyond to ensure excellent guest experience and improve your workplace. We would love to hear about them! The “One Park – One Team” awards highlight the work done by your colleagues and volunteers in the Park. We encourage you to acknowledge a team member’s hard work by nominating them. Nominations via registration is only available for Individual OPOT Summer Kickoff RSVPs through Eventbrite. If you’d like to register a group but still nominate an employee or volunteer for an OPOT award please click here to complete the survey.
URL:https://bpcp.org/events/4th-annual-one-park-one-team-summer-kickoff/
LOCATION:The Old Globe\, 1363 Old Globe Way\, San Diego\, CA\, 92101\, United States
CATEGORIES:Balboa Park Cultural Partnership,One Park - One Team
ATTACH;FMTTYPE=image/png:https://bpcp.org/wp-content/uploads/2017/04/Summer-Kickoff-Banner.png
ORGANIZER;CN="One%20Park%20-%20One%20Team":MAILTO:oneparkoneteam@bpcp.org
END:VEVENT
END:VCALENDAR